BEGIN:VCALENDAR
VERSION:2.0
PRODID:-//Austria Project - ECPv6.15.20//NONSGML v1.0//EN
CALSCALE:GREGORIAN
METHOD:PUBLISH
X-WR-CALNAME:Austria Project
X-ORIGINAL-URL:https://www.austriaproject.com
X-WR-CALDESC:Veranstaltungen für Austria Project
REFRESH-INTERVAL;VALUE=DURATION:PT1H
X-Robots-Tag:noindex
X-PUBLISHED-TTL:PT1H
BEGIN:VTIMEZONE
TZID:Europe/Helsinki
BEGIN:DAYLIGHT
TZOFFSETFROM:+0200
TZOFFSETTO:+0300
TZNAME:EEST
DTSTART:20250330T010000
END:DAYLIGHT
BEGIN:STANDARD
TZOFFSETFROM:+0300
TZOFFSETTO:+0200
TZNAME:EET
DTSTART:20251026T010000
END:STANDARD
BEGIN:DAYLIGHT
TZOFFSETFROM:+0200
TZOFFSETTO:+0300
TZNAME:EEST
DTSTART:20260329T010000
END:DAYLIGHT
BEGIN:STANDARD
TZOFFSETFROM:+0300
TZOFFSETTO:+0200
TZNAME:EET
DTSTART:20261025T010000
END:STANDARD
BEGIN:DAYLIGHT
TZOFFSETFROM:+0200
TZOFFSETTO:+0300
TZNAME:EEST
DTSTART:20270328T010000
END:DAYLIGHT
BEGIN:STANDARD
TZOFFSETFROM:+0300
TZOFFSETTO:+0200
TZNAME:EET
DTSTART:20271031T010000
END:STANDARD
END:VTIMEZONE
BEGIN:VEVENT
DTSTART;TZID=Europe/Helsinki:20261219T200000
DTEND;TZID=Europe/Helsinki:20261219T233000
DTSTAMP:20260421T112019
CREATED:20230225T132029Z
LAST-MODIFIED:20260417T111022Z
UID:1496-1797710400-1797723000@www.austriaproject.com
SUMMARY:Schießstätte - Allach
DESCRIPTION:
URL:https://www.austriaproject.com/event/schiessstaette-allach/
LOCATION:Schießstätte\, Servetstraße 1\, München\, 80999
END:VEVENT
END:VCALENDAR