BEGIN:VCALENDAR
VERSION:2.0
PRODID:-//Austria Project - ECPv6.15.20//NONSGML v1.0//EN
CALSCALE:GREGORIAN
METHOD:PUBLISH
X-ORIGINAL-URL:https://www.austriaproject.com
X-WR-CALDESC:Veranstaltungen für Austria Project
REFRESH-INTERVAL;VALUE=DURATION:PT1H
X-Robots-Tag:noindex
X-PUBLISHED-TTL:PT1H
BEGIN:VTIMEZONE
TZID:Europe/Helsinki
BEGIN:DAYLIGHT
TZOFFSETFROM:+0200
TZOFFSETTO:+0300
TZNAME:EEST
DTSTART:20250330T010000
END:DAYLIGHT
BEGIN:STANDARD
TZOFFSETFROM:+0300
TZOFFSETTO:+0200
TZNAME:EET
DTSTART:20251026T010000
END:STANDARD
BEGIN:DAYLIGHT
TZOFFSETFROM:+0200
TZOFFSETTO:+0300
TZNAME:EEST
DTSTART:20260329T010000
END:DAYLIGHT
BEGIN:STANDARD
TZOFFSETFROM:+0300
TZOFFSETTO:+0200
TZNAME:EET
DTSTART:20261025T010000
END:STANDARD
BEGIN:DAYLIGHT
TZOFFSETFROM:+0200
TZOFFSETTO:+0300
TZNAME:EEST
DTSTART:20270328T010000
END:DAYLIGHT
BEGIN:STANDARD
TZOFFSETFROM:+0300
TZOFFSETTO:+0200
TZNAME:EET
DTSTART:20271031T010000
END:STANDARD
END:VTIMEZONE
BEGIN:VEVENT
DTSTART;TZID=Europe/Helsinki:20261107T203000
DTEND;TZID=Europe/Helsinki:20261107T233000
DTSTAMP:20260421T092818
CREATED:20260125T122308Z
LAST-MODIFIED:20260305T142901Z
UID:3108-1794083400-1794094200@www.austriaproject.com
SUMMARY:Landshut - Café Chocolat: Nacht der blauen Wunder (Austria Project Pur)
DESCRIPTION:Dies ist ein Konzert unserer Unplugged-Besetzung „Austria Project Pur“. \n 
URL:https://www.austriaproject.com/event/landshut-nacht-der-blauen-wunder-austria-project-pur/
END:VEVENT
BEGIN:VEVENT
DTSTART;TZID=Europe/Helsinki:20261128T200000
DTEND;TZID=Europe/Helsinki:20261128T223000
DTSTAMP:20260421T092818
CREATED:20250728T190033Z
LAST-MODIFIED:20260123T091015Z
UID:3044-1795896000-1795905000@www.austriaproject.com
SUMMARY:Stragula - München (Austria Project Pur)
DESCRIPTION:Dies ist ein Konzert unserer Unplugged-Formation „Austria Project Pur“ !!! \nKein Eintritt (Hutspende)
URL:https://www.austriaproject.com/event/stragula-muenchen-austria-project-pur/
ATTACH;FMTTYPE=image/jpeg:https://www.austriaproject.com/wp-content/uploads/2025/07/Screenshot_20250728_205729_Facebook.jpg
END:VEVENT
END:VCALENDAR