BEGIN:VCALENDAR
VERSION:2.0
PRODID:-//Austria Project - ECPv6.15.20//NONSGML v1.0//EN
CALSCALE:GREGORIAN
METHOD:PUBLISH
X-ORIGINAL-URL:https://www.austriaproject.com
X-WR-CALDESC:Veranstaltungen für Austria Project
REFRESH-INTERVAL;VALUE=DURATION:PT1H
X-Robots-Tag:noindex
X-PUBLISHED-TTL:PT1H
BEGIN:VTIMEZONE
TZID:Europe/Helsinki
BEGIN:DAYLIGHT
TZOFFSETFROM:+0200
TZOFFSETTO:+0300
TZNAME:EEST
DTSTART:20250330T010000
END:DAYLIGHT
BEGIN:STANDARD
TZOFFSETFROM:+0300
TZOFFSETTO:+0200
TZNAME:EET
DTSTART:20251026T010000
END:STANDARD
BEGIN:DAYLIGHT
TZOFFSETFROM:+0200
TZOFFSETTO:+0300
TZNAME:EEST
DTSTART:20260329T010000
END:DAYLIGHT
BEGIN:STANDARD
TZOFFSETFROM:+0300
TZOFFSETTO:+0200
TZNAME:EET
DTSTART:20261025T010000
END:STANDARD
BEGIN:DAYLIGHT
TZOFFSETFROM:+0200
TZOFFSETTO:+0300
TZNAME:EEST
DTSTART:20270328T010000
END:DAYLIGHT
BEGIN:STANDARD
TZOFFSETFROM:+0300
TZOFFSETTO:+0200
TZNAME:EET
DTSTART:20271031T010000
END:STANDARD
END:VTIMEZONE
BEGIN:VEVENT
DTSTART;TZID=Europe/Helsinki:20261024T200000
DTEND;TZID=Europe/Helsinki:20261024T230000
DTSTAMP:20260421T074430
CREATED:20230221T202719Z
LAST-MODIFIED:20260111T095837Z
UID:1454-1792872000-1792882800@www.austriaproject.com
SUMMARY:Habach - Bistro zum Trödler
DESCRIPTION:
URL:https://www.austriaproject.com/event/troedler-habach/
LOCATION:TRÖDLER\, Hauptstraße 13\, Habach\, 82392\, Deutschland
ATTACH;FMTTYPE=image/jpeg:https://www.austriaproject.com/wp-content/uploads/2023/02/Troedler-habach-034.jpg
END:VEVENT
END:VCALENDAR