BEGIN:VCALENDAR
VERSION:2.0
PRODID:-//Austria Project - ECPv6.15.20//NONSGML v1.0//EN
CALSCALE:GREGORIAN
METHOD:PUBLISH
X-ORIGINAL-URL:https://www.austriaproject.com
X-WR-CALDESC:Veranstaltungen für Austria Project
REFRESH-INTERVAL;VALUE=DURATION:PT1H
X-Robots-Tag:noindex
X-PUBLISHED-TTL:PT1H
BEGIN:VTIMEZONE
TZID:Europe/Helsinki
BEGIN:DAYLIGHT
TZOFFSETFROM:+0200
TZOFFSETTO:+0300
TZNAME:EEST
DTSTART:20250330T010000
END:DAYLIGHT
BEGIN:STANDARD
TZOFFSETFROM:+0300
TZOFFSETTO:+0200
TZNAME:EET
DTSTART:20251026T010000
END:STANDARD
BEGIN:DAYLIGHT
TZOFFSETFROM:+0200
TZOFFSETTO:+0300
TZNAME:EEST
DTSTART:20260329T010000
END:DAYLIGHT
BEGIN:STANDARD
TZOFFSETFROM:+0300
TZOFFSETTO:+0200
TZNAME:EET
DTSTART:20261025T010000
END:STANDARD
BEGIN:DAYLIGHT
TZOFFSETFROM:+0200
TZOFFSETTO:+0300
TZNAME:EEST
DTSTART:20270328T010000
END:DAYLIGHT
BEGIN:STANDARD
TZOFFSETFROM:+0300
TZOFFSETTO:+0200
TZNAME:EET
DTSTART:20271031T010000
END:STANDARD
END:VTIMEZONE
BEGIN:VEVENT
DTSTART;TZID=Europe/Helsinki:20260521T190000
DTEND;TZID=Europe/Helsinki:20260521T220000
DTSTAMP:20260421T002157
CREATED:20230221T204007Z
LAST-MODIFIED:20251014T134211Z
UID:1465-1779390000-1779400800@www.austriaproject.com
SUMMARY:AUSTRIA PROJECT PUR – MUSIKALISCHES WEINFEST IM WESTPARK (SEEBÜHNE)
DESCRIPTION:Wichtiger Hinweis: Dies ist ein Konzert unserer Unplugged-Formation „Austria Project Pur“ !!!
URL:https://www.austriaproject.com/event/austria-project-pur-musikalisches-weinfest-im-westpark-seebuehne/
LOCATION:AUSTRIA PROJECT PUR – WESTPARK\, Westpark\, München\, Deutschland
END:VEVENT
END:VCALENDAR